BEGIN:VCALENDAR
VERSION:2.0
PRODID:-//Southeastern Railway Museum - ECPv6.15.17.1//NONSGML v1.0//EN
CALSCALE:GREGORIAN
METHOD:PUBLISH
X-ORIGINAL-URL:https://www.train-museum.org
X-WR-CALDESC:Events for Southeastern Railway Museum
REFRESH-INTERVAL;VALUE=DURATION:PT1H
X-Robots-Tag:noindex
X-PUBLISHED-TTL:PT1H
BEGIN:VTIMEZONE
TZID:America/New_York
BEGIN:DAYLIGHT
TZOFFSETFROM:-0500
TZOFFSETTO:-0400
TZNAME:EDT
DTSTART:20170312T070000
END:DAYLIGHT
BEGIN:STANDARD
TZOFFSETFROM:-0400
TZOFFSETTO:-0500
TZNAME:EST
DTSTART:20171105T060000
END:STANDARD
BEGIN:DAYLIGHT
TZOFFSETFROM:-0500
TZOFFSETTO:-0400
TZNAME:EDT
DTSTART:20180311T070000
END:DAYLIGHT
BEGIN:STANDARD
TZOFFSETFROM:-0400
TZOFFSETTO:-0500
TZNAME:EST
DTSTART:20181104T060000
END:STANDARD
BEGIN:DAYLIGHT
TZOFFSETFROM:-0500
TZOFFSETTO:-0400
TZNAME:EDT
DTSTART:20190310T070000
END:DAYLIGHT
BEGIN:STANDARD
TZOFFSETFROM:-0400
TZOFFSETTO:-0500
TZNAME:EST
DTSTART:20191103T060000
END:STANDARD
END:VTIMEZONE
BEGIN:VEVENT
DTSTART;TZID=America/New_York:20181103T100000
DTEND;TZID=America/New_York:20181103T160000
DTSTAMP:20260425T181502
CREATED:20180414T164229Z
LAST-MODIFIED:20181031T181524Z
UID:2151-1541239200-1541260800@www.train-museum.org
SUMMARY:2018 Model Railroad Days
DESCRIPTION:The Southeastern Railway Museum will host the North Georgia Modurail Club’s visiting model railroad layout from 10 a.m. until 4 p.m. on Nov. 3-4. The special layout is included in regular museum admission. \nThe Southeastern Railway Museum’s own layout has made significant progress and has many new\, exciting features. The layout will be running next to the visiting layout in the Exhibit Hall. \nIn addition to North Georgia Modurail exhibit\, there will be “cash” tables selling new and used railroad models\, landscaping\, structures\, track\, artwork\, books\, etc. Items will be priced to sell. \nTrain rides will be available on the historic (standard-gauge) train and the miniature “park” train. \nCost: $10 adults\, $8 seniors 65+\, $7 children 2-12\, under 2 free. Train rides $3 per person.
URL:https://www.train-museum.org/event/2018-model-railroad-days-day-one/
END:VEVENT
BEGIN:VEVENT
DTSTART;TZID=America/New_York:20181117T110000
DTEND;TZID=America/New_York:20181117T140000
DTSTAMP:20260425T181502
CREATED:20180619T194715Z
LAST-MODIFIED:20181031T181542Z
UID:2305-1542452400-1542463200@www.train-museum.org
SUMMARY:Santa Arrives on the Train
DESCRIPTION:Santa’s been called – he’ll be arriving at the Southeastern Railway Museum on Saturday\, November 17 at 1:00 PM! \nDetails\nSanta will be welcomed again this year by the Jingle Bell Dancers from Miss Cindy’s Dance Studio.  \nThere will be refreshments (cookies and cocoa)\, lunch\, entertainment\, letter writing to Santa\, and an opportunity to take pictures with Santa in a historic setting for your Christmas cards.  Refreshments and entertainment start at 11:00 am. Santa will arrive at 1:00 pm. Please be aware that the admissions gatehouse is very busy right before Santa’s arrival\, so we suggest arriving early to enjoy the museum! \nCookies\, cocoa\, and lunch are sponsored by The Local Pantry in Duluth. \nView photos from last year’s event on our Facebook here! \nDuluth Festival of Trees\nThe Duluth Festival of Trees also opens at the museum on November 17! \n 
URL:https://www.train-museum.org/event/santa-arrives-on-the-train-2018/
LOCATION:Southeastern Railway Museum\, 3595 Buford Hwy\, Duluth\, GA\, 30096\, United States
END:VEVENT
END:VCALENDAR