BEGIN:VCALENDAR
VERSION:2.0
PRODID:-//Southeastern Railway Museum - ECPv6.15.17.1//NONSGML v1.0//EN
CALSCALE:GREGORIAN
METHOD:PUBLISH
X-WR-CALNAME:Southeastern Railway Museum
X-ORIGINAL-URL:https://www.train-museum.org
X-WR-CALDESC:Events for Southeastern Railway Museum
REFRESH-INTERVAL;VALUE=DURATION:PT1H
X-Robots-Tag:noindex
X-PUBLISHED-TTL:PT1H
BEGIN:VTIMEZONE
TZID:America/New_York
BEGIN:DAYLIGHT
TZOFFSETFROM:-0500
TZOFFSETTO:-0400
TZNAME:EDT
DTSTART:20210314T070000
END:DAYLIGHT
BEGIN:STANDARD
TZOFFSETFROM:-0400
TZOFFSETTO:-0500
TZNAME:EST
DTSTART:20211107T060000
END:STANDARD
BEGIN:DAYLIGHT
TZOFFSETFROM:-0500
TZOFFSETTO:-0400
TZNAME:EDT
DTSTART:20220313T070000
END:DAYLIGHT
BEGIN:STANDARD
TZOFFSETFROM:-0400
TZOFFSETTO:-0500
TZNAME:EST
DTSTART:20221106T060000
END:STANDARD
BEGIN:DAYLIGHT
TZOFFSETFROM:-0500
TZOFFSETTO:-0400
TZNAME:EDT
DTSTART:20230312T070000
END:DAYLIGHT
BEGIN:STANDARD
TZOFFSETFROM:-0400
TZOFFSETTO:-0500
TZNAME:EST
DTSTART:20231105T060000
END:STANDARD
END:VTIMEZONE
BEGIN:VEVENT
DTSTART;TZID=America/New_York:20220305T101500
DTEND;TZID=America/New_York:20220305T151500
DTSTAMP:20260422T055357
CREATED:20220118T212316Z
LAST-MODIFIED:20220205T010753Z
UID:5362-1646475300-1646493300@www.train-museum.org
SUMMARY:I've Been Reading on the Railroad!
DESCRIPTION:I’ve Been Reading on the Railroad! \nThe Southeastern Railway Museum will have ongoing reading events and activities throughout the museum for you and your kids. Events will include book readings from or on a train\, bus\, fire engine\, tractor\, taxi and more! Children will also get to make their own bookmark\, book worm buddy\, and puppet to help them with their reading at home. \nAdditionally\,  Gwinnett County’s Bookmobile will be onsite to check out books and get a library card. \nTickets can be purchased at the gate on the day of the event or click here to PURCHASE ADVANCE TICKETS! \n 
URL:https://www.train-museum.org/event/ive-been-reading-on-the-railroad/
LOCATION:Southeastern Railway Museum\, 3595 Buford Hwy\, Duluth\, GA\, 30096\, United States
CATEGORIES:Event
ATTACH;FMTTYPE=image/jpeg:https://www.train-museum.org/wp-content/uploads/2022/01/Reading-RR-2022.jpg
END:VEVENT
END:VCALENDAR