BEGIN:VCALENDAR
VERSION:2.0
PRODID:-//Southeastern Railway Museum - ECPv6.15.17.1//NONSGML v1.0//EN
CALSCALE:GREGORIAN
METHOD:PUBLISH
X-WR-CALNAME:Southeastern Railway Museum
X-ORIGINAL-URL:https://www.train-museum.org
X-WR-CALDESC:Events for Southeastern Railway Museum
REFRESH-INTERVAL;VALUE=DURATION:PT1H
X-Robots-Tag:noindex
X-PUBLISHED-TTL:PT1H
BEGIN:VTIMEZONE
TZID:America/New_York
BEGIN:DAYLIGHT
TZOFFSETFROM:-0500
TZOFFSETTO:-0400
TZNAME:EDT
DTSTART:20170312T070000
END:DAYLIGHT
BEGIN:STANDARD
TZOFFSETFROM:-0400
TZOFFSETTO:-0500
TZNAME:EST
DTSTART:20171105T060000
END:STANDARD
BEGIN:DAYLIGHT
TZOFFSETFROM:-0500
TZOFFSETTO:-0400
TZNAME:EDT
DTSTART:20180311T070000
END:DAYLIGHT
BEGIN:STANDARD
TZOFFSETFROM:-0400
TZOFFSETTO:-0500
TZNAME:EST
DTSTART:20181104T060000
END:STANDARD
BEGIN:DAYLIGHT
TZOFFSETFROM:-0500
TZOFFSETTO:-0400
TZNAME:EDT
DTSTART:20190310T070000
END:DAYLIGHT
BEGIN:STANDARD
TZOFFSETFROM:-0400
TZOFFSETTO:-0500
TZNAME:EST
DTSTART:20191103T060000
END:STANDARD
END:VTIMEZONE
BEGIN:VEVENT
DTSTART;TZID=America/New_York:20181027T103000
DTEND;TZID=America/New_York:20181027T160000
DTSTAMP:20260422T161748
CREATED:20180619T190553Z
LAST-MODIFIED:20180914T191048Z
UID:2298-1540636200-1540656000@www.train-museum.org
SUMMARY:Train or Treat
DESCRIPTION:Come celebrate Halloween at the museum!\n\nDoors open at 10:00 am\, activities 10:30 am – 4:00 pm\n\nThe following activities are included in museum admission:\n\nCostume Contest for ages up to 12\n\nTimes TBA\n\n\nTrick or Treating at decorated stations around the museum\nWagon rides (donations appreciated)\nFall themed refreshments\nVisiting vendors and local businesses TBA\nLive music TBA\n\nThe following will be available for a small additional charge:\n\nHand car rides ($2)\nHistoric standard-gauge train ($3\, $5 combo with miniature train)\n\nTrain robberies TBA\n\n\nMiniature train ($3\, $5 combo with historic train)\nCab rides – ride up in the locomotive with the engineer! ($5/person\, 3 for $12 – limited availability)\nFood vendor\nIce cream vendor\n\n\n\nSpecial thanks to these sponsors and donors\nTo be announced! \nInterested in being a vendor and handing out candy while advertising your business? Email admin@train-museum.org for information. \nTo get 2 free train ride tickets\, drop off a bag of sealed\, individually-wrapped\, fun-size candy at the Museum’s gate house by October 20! \n2018 Train or Treat Festival Guide\nComing soon!  \n2017 Festival Guide: Page 1 | Page 2 \nMore information\nSee the Southeastern Railway Museum Facebook for the latest updates! To view photos from last year’s event\, visit the album on our Facebook page!
URL:https://www.train-museum.org/event/train-or-treat-2018/
LOCATION:Southeastern Railway Museum\, 3595 Buford Hwy\, Duluth\, GA\, 30096\, United States
END:VEVENT
END:VCALENDAR