BEGIN:VCALENDAR
VERSION:2.0
PRODID:-//Southeastern Railway Museum - ECPv6.15.17.1//NONSGML v1.0//EN
CALSCALE:GREGORIAN
METHOD:PUBLISH
X-WR-CALNAME:Southeastern Railway Museum
X-ORIGINAL-URL:https://www.train-museum.org
X-WR-CALDESC:Events for Southeastern Railway Museum
REFRESH-INTERVAL;VALUE=DURATION:PT1H
X-Robots-Tag:noindex
X-PUBLISHED-TTL:PT1H
BEGIN:VTIMEZONE
TZID:America/New_York
BEGIN:DAYLIGHT
TZOFFSETFROM:-0500
TZOFFSETTO:-0400
TZNAME:EDT
DTSTART:20180311T070000
END:DAYLIGHT
BEGIN:STANDARD
TZOFFSETFROM:-0400
TZOFFSETTO:-0500
TZNAME:EST
DTSTART:20181104T060000
END:STANDARD
BEGIN:DAYLIGHT
TZOFFSETFROM:-0500
TZOFFSETTO:-0400
TZNAME:EDT
DTSTART:20190310T070000
END:DAYLIGHT
BEGIN:STANDARD
TZOFFSETFROM:-0400
TZOFFSETTO:-0500
TZNAME:EST
DTSTART:20191103T060000
END:STANDARD
BEGIN:DAYLIGHT
TZOFFSETFROM:-0500
TZOFFSETTO:-0400
TZNAME:EDT
DTSTART:20200308T070000
END:DAYLIGHT
BEGIN:STANDARD
TZOFFSETFROM:-0400
TZOFFSETTO:-0500
TZNAME:EST
DTSTART:20201101T060000
END:STANDARD
END:VTIMEZONE
BEGIN:VEVENT
DTSTART;TZID=America/New_York:20190509T102000
DTEND;TZID=America/New_York:20190509T121500
DTSTAMP:20260421T112717
CREATED:20190508T182428Z
LAST-MODIFIED:20190508T182428Z
UID:3533-1557397200-1557404100@www.train-museum.org
SUMMARY:Second Thursday Preschool Program - Miniature Trains
DESCRIPTION:Second Thursday Preschooler Event –The second Thursday of each month from 10:30 AM-12:05 PM\, we invite you and your preschooler to “get on board” for the Southeastern Railway Museum’s special monthly preschool program! \nThis is an interactive educational program that allows the parent (or grandparent!) and child to participate together in activities related to the vehicle of the month. \nEach month\, the program focuses on a different vehicle or method of transportation. There are 5 components to the program that revolve around the vehicle of the month: game\, story/song\, activity\, craft\, and when available\, the actual “vehicle of the month” for children to see and experience. Each component lasts 15 minutes. The components will be facilitated by the museum’s Education Conductors. Second Thursday is perfect for your 2 to 4-year-old. \nIn May 2019\, we’ll be exploring: miniature trains! Our “park train” was made by the Miniature Train Company in 1957 for the Birmingham Zoo. \nThe cost is $10 per participating child. One adult is free per participating child; additional adults are $12. To attend\, check-in at the ticket counter before 10:20 AM on the second Thursday of any month. The program is limited to the first 75 children participants (and their accompanying adults) and we strongly encourage signing up in advance. Advance ticket sales will cut off at 8 pm the day before (Wednesday night). If the event fills up or sells out online\, there will NOT be onsite sales on Thursday. Train rides may be purchased online or when you arrive at the museum. Tickets also include museum admission\, so feel free to bring a lunch and explore after the program! \nWe can’t wait to see you there! \nPurchase tickets online in advance here: https://southeasternrailwaymuseum.thundertix.com/
URL:https://www.train-museum.org/event/second-thursday-preschool-program-miniature-trains/
LOCATION:Southeastern Railway Museum\, 3595 Buford Hwy\, Duluth\, GA\, 30096\, United States
ATTACH;FMTTYPE=image/jpeg:https://www.train-museum.org/wp-content/uploads/2019/05/59295550_10157191198277236_903969532089991168_o.jpg
END:VEVENT
END:VCALENDAR