BEGIN:VCALENDAR
VERSION:2.0
PRODID:-//Southeastern Railway Museum - ECPv6.15.17.1//NONSGML v1.0//EN
CALSCALE:GREGORIAN
METHOD:PUBLISH
X-WR-CALNAME:Southeastern Railway Museum
X-ORIGINAL-URL:https://www.train-museum.org
X-WR-CALDESC:Events for Southeastern Railway Museum
REFRESH-INTERVAL;VALUE=DURATION:PT1H
X-Robots-Tag:noindex
X-PUBLISHED-TTL:PT1H
BEGIN:VTIMEZONE
TZID:America/New_York
BEGIN:DAYLIGHT
TZOFFSETFROM:-0500
TZOFFSETTO:-0400
TZNAME:EDT
DTSTART:20170312T070000
END:DAYLIGHT
BEGIN:STANDARD
TZOFFSETFROM:-0400
TZOFFSETTO:-0500
TZNAME:EST
DTSTART:20171105T060000
END:STANDARD
BEGIN:DAYLIGHT
TZOFFSETFROM:-0500
TZOFFSETTO:-0400
TZNAME:EDT
DTSTART:20180311T070000
END:DAYLIGHT
BEGIN:STANDARD
TZOFFSETFROM:-0400
TZOFFSETTO:-0500
TZNAME:EST
DTSTART:20181104T060000
END:STANDARD
BEGIN:DAYLIGHT
TZOFFSETFROM:-0500
TZOFFSETTO:-0400
TZNAME:EDT
DTSTART:20190310T070000
END:DAYLIGHT
BEGIN:STANDARD
TZOFFSETFROM:-0400
TZOFFSETTO:-0500
TZNAME:EST
DTSTART:20191103T060000
END:STANDARD
END:VTIMEZONE
BEGIN:VEVENT
DTSTART;TZID=America/New_York:20181213T102000
DTEND;TZID=America/New_York:20181213T120500
DTSTAMP:20260421T182531
CREATED:20181114T205702Z
LAST-MODIFIED:20181114T205702Z
UID:2855-1544696400-1544702700@www.train-museum.org
SUMMARY:Second Thursday Preschool Program - Trains
DESCRIPTION:Second Thursday Preschooler Event –The second Thursday of each month from 10:30 AM-12:05 PM\, we invite you and your preschooler to get on board for the Southeastern Railway Museum’s special monthly preschool program! Stop on by and bring a lunch for after the program! \nThis is an interactive educational program that allows the parent and child to participate together in activities related to the vehicle of the month. \nEach month\, the program features a different vehicle. There are 5 components to the program which revolve around the vehicle of the month: game\, story/song\, activity\, craft\, and when available\, the vehicle itself for children to see and experience up close. Each station lasts 15 minutes. The components will be facilitated by the museum’s Education Conductors. Second Thursday is perfect for your 2 to 4-year-old. \nThe vehicle for December 2018 is: TRAINS! \nThe cost is $10 per participating child. One adult is free per participating child\, additional adults are $11. To attend\, check-in at the ticket gatehouse before 10:20 AM on the second Thursday of any month. The program is limited to the first 75 children participants (and their accompanying adults) and we strongly encourage signing up in advance. Advance ticket sales will cut off at 8 pm the evening before the event (Wednesday night). If the event fills up or sells out online\, there will NOT be onsite sales on Thursday. Tickets are valid only for the month purchased and may not be used for another month’s Second Thursday program. \nTrain rides are not included as part of the program but may be purchased separately. So that program participants do not miss any of the program\, the train ride will immediately follow the last station (typically at 12:15 pm). We recommend Second Thursday participants take the train after the program\, but other train rides will be scheduled throughout the morning and afternoon. \nWe can’t wait to see you there! If you have questions\, e-mail education@train-museum.org. \nPurchase tickets in advance on-line: https://southeasternrailwaymuseum.thundertix.com/ \n  \n \n 
URL:https://www.train-museum.org/event/second-thursday-preschool-program-trains/
LOCATION:Southeastern Railway Museum\, 3595 Buford Hwy\, Duluth\, GA\, 30096\, United States
ATTACH;FMTTYPE=image/jpeg:https://www.train-museum.org/wp-content/uploads/2018/08/IMG_3747b.jpg
END:VEVENT
END:VCALENDAR