BEGIN:VCALENDAR
VERSION:2.0
PRODID:-//Southeastern Railway Museum - ECPv6.15.17.1//NONSGML v1.0//EN
CALSCALE:GREGORIAN
METHOD:PUBLISH
X-ORIGINAL-URL:https://www.train-museum.org
X-WR-CALDESC:Events for Southeastern Railway Museum
REFRESH-INTERVAL;VALUE=DURATION:PT1H
X-Robots-Tag:noindex
X-PUBLISHED-TTL:PT1H
BEGIN:VTIMEZONE
TZID:America/New_York
BEGIN:DAYLIGHT
TZOFFSETFROM:-0500
TZOFFSETTO:-0400
TZNAME:EDT
DTSTART:20170312T070000
END:DAYLIGHT
BEGIN:STANDARD
TZOFFSETFROM:-0400
TZOFFSETTO:-0500
TZNAME:EST
DTSTART:20171105T060000
END:STANDARD
BEGIN:DAYLIGHT
TZOFFSETFROM:-0500
TZOFFSETTO:-0400
TZNAME:EDT
DTSTART:20180311T070000
END:DAYLIGHT
BEGIN:STANDARD
TZOFFSETFROM:-0400
TZOFFSETTO:-0500
TZNAME:EST
DTSTART:20181104T060000
END:STANDARD
BEGIN:DAYLIGHT
TZOFFSETFROM:-0500
TZOFFSETTO:-0400
TZNAME:EDT
DTSTART:20190310T070000
END:DAYLIGHT
BEGIN:STANDARD
TZOFFSETFROM:-0400
TZOFFSETTO:-0500
TZNAME:EST
DTSTART:20191103T060000
END:STANDARD
END:VTIMEZONE
BEGIN:VEVENT
DTSTART;TZID=America/New_York:20180712T103000
DTEND;TZID=America/New_York:20180712T120500
DTSTAMP:20260422T020901
CREATED:20180425T015613Z
LAST-MODIFIED:20180706T150539Z
UID:2182-1531391400-1531397100@www.train-museum.org
SUMMARY:Second Thursday Preschool Program - RVs and Campers
DESCRIPTION:Second Thursday Preschooler Event –The second Thursday of each month from 10:30 AM-12:05 PM\, we want your preschooler to “Get on Board” for the Southeastern Railway Museum’s special monthly preschool program! \nThis is an interactive educational program that allows the parent and child to participate together in activities related to the vehicle of the month. \nEach month\, the program features a different vehicle. There are 5 components to the program which revolve around the vehicle of the month: game\, story/song\, activity\, craft\, and when available\, the vehicle itself for children to see and experience up close. Each station lasts 15 minutes. The components will be facilitated by the museum’s Education Conductors. Second Thursday is perfect for your 2 to 4-year-old. \nThe vehicle for July 2018 is RVs (and campers). Prepare for some camping-themed activities! \nThe cost is $10 per participating child. One adult is free per participating child\, additional adults are $11. To attend\, check-in at the ticket counter before 10:20 AM on the second Thursday of any month. The program is limited to the first 75 children participants (and their accompanying adults) and we strongly encourage signing up in advance. Advance ticket sales will cut off at 8 pm the evening before the event (Wednesday night). If the event fills up or sells out online\, there will NOT be onsite sales on Thursday. Tickets are valid only for the month purchased and may not be used for another month’s Second Thursday program. \nTrain rides are not included as part of the program but may be purchased separately. So that program participants do not miss any of the program\, the train ride will immediately follow the last station (typically at 12:15 pm). We recommend Second Thursday participants take the train after the program\, but other train rides will be scheduled throughout the morning and afternoon. \nWe can’t wait to see you there! If you have questions\, e-mail education@train-museum.org. \nPurchase tickets in advance on-line: https://southeasternrailwaymuseum.thundertix.com/ \n 
URL:https://www.train-museum.org/event/second-thursday-preschool-program-boats-or-rvs/
LOCATION:Southeastern Railway Museum\, 3595 Buford Hwy\, Duluth\, GA\, 30096\, United States
ATTACH;FMTTYPE=image/jpeg:https://www.train-museum.org/wp-content/uploads/2018/04/20170713_110719.jpg
END:VEVENT
BEGIN:VEVENT
DTSTART;TZID=America/New_York:20180723T090000
DTEND;TZID=America/New_York:20180727T130000
DTSTAMP:20260422T020901
CREATED:20180424T191620Z
LAST-MODIFIED:20180424T191620Z
UID:2179-1532336400-1532696400@www.train-museum.org
SUMMARY:Summer Railway Camp: Riding the Rails (July)
DESCRIPTION:Discover the excitement of railroading at the Southeastern Railway Museum’s fun and enriching 5-day summer camp! Our theme for 2018 is “Riding the Rails”. Young railroaders will learn about different types of rail transportation and transit including trains\, monorails\, subways\, street cars\, cable cars\, and even roller coasters! Each day\, we will focus on a different type of transportation\, do related hands-on transportation activities\, make crafts\, and more. During the program\, children will ride both the full-size historic train and the miniature park train. \nOur 2018 Summer Railway Camp dates are:\n\nJune 18-22  Registration ends June 1.\nJuly 23-27   Registration ends July 10.\n\nThe fee for summer camp is $195 per child. Discounted early-bird registration begins in February ($170 before May 1). The program repeats for each session (the two camp weeks are the same). Participants may register online (please note there is a separate registration for each session) or by sending a check along with the forms found below. Included in the fee is a T-shirt for every camper. \nSummer camp will be held Monday through Friday from 9:00 am – 1:00 pm for children ages 4-12. Children must be 4 years old by the first day of camp and no older than 12 by the end of the camp. Campers will split into three different age groups during the program. \nView our 2018 Summer Camp brochure here! \n  \nRequired documents:\n\nSummer Railway Camp Registration Form\nSummer Railway Camp Health Form – Please include a copy of your child’s current immunization records and the Medication Form (if necessary).\n\nPlease complete and send the documents above to the education coordinator at education@southeasternrailwaymuseum.org. Your registration is not complete without these forms. You may fill these forms out digitally and email them\, print and scan them\, or send them by mail to: \nSoutheastern Railway Museum\nSummer Camp\nP.O. Box 1267\nDuluth\, GA  30096 \n \nEach day the child will rotate with their group through stations such as:\n\nTransportation-themed crafts and activities\nLearning about the different ways to get around by rail\nStory and music time\nSnack\nAnd more!\n\n\n  \n\nTypes of transport children will learn about:\n\nTrains\nMonorails\nStreet cars\nCable cars\nSubways\n\nOn the last day of camp\, we invite parents to join us for a graduation ceremony. To register\, click here! Check out photos from last year’s camps here and here! \nIf you have any questions or would like to sign up for camp\, please contact the museum’s Education Coordinator at 770-495-0253\, or via email at education@southeasternrailwaymuseum.org or via the contact form below. \n  \n\n← Back Thank you for your response. ✨\n\n\n					\n						\n						\n						\n						\n						\n							\n								\n									\n										\n										\n									\n									\n										\n										\n									\n								\n							\n						\n						\n							\n								\n									\n									\n										\n									\n									\n									\n								\n							\n						\n					\n				\n\n\n\nName(required)\n\n \n			\n				\n					\n						\n						\n						\n					\n				\n				\n			 \n	\n\n\nEmail(required)\n\n \n			\n				\n					\n						\n						\n						\n					\n				\n				\n			 \n	\n\n\nWebsite\n\n \n			\n				\n					\n						\n						\n						\n					\n				\n				\n			 \n	\n\n\nMessage\n\n \n			\n				\n					\n						\n						\n						\n					\n				\n				\n			\n	\n	\n\n				\n					\n				\n						Submit		\n		\n		\n	 \nΔ \n\n  \n 
URL:https://www.train-museum.org/event/summer-railway-camp-riding-the-rails-july/
LOCATION:Southeastern Railway Museum\, 3595 Buford Hwy\, Duluth\, GA\, 30096\, United States
ATTACH;FMTTYPE=image/jpeg:https://www.train-museum.org/wp-content/uploads/2016/05/JulyCamp2017.jpg
END:VEVENT
END:VCALENDAR