BEGIN:VCALENDAR
VERSION:2.0
PRODID:-//Southeastern Railway Museum - ECPv6.15.17.1//NONSGML v1.0//EN
CALSCALE:GREGORIAN
METHOD:PUBLISH
X-ORIGINAL-URL:https://www.train-museum.org
X-WR-CALDESC:Events for Southeastern Railway Museum
REFRESH-INTERVAL;VALUE=DURATION:PT1H
X-Robots-Tag:noindex
X-PUBLISHED-TTL:PT1H
BEGIN:VTIMEZONE
TZID:America/New_York
BEGIN:DAYLIGHT
TZOFFSETFROM:-0500
TZOFFSETTO:-0400
TZNAME:EDT
DTSTART:20210314T070000
END:DAYLIGHT
BEGIN:STANDARD
TZOFFSETFROM:-0400
TZOFFSETTO:-0500
TZNAME:EST
DTSTART:20211107T060000
END:STANDARD
BEGIN:DAYLIGHT
TZOFFSETFROM:-0500
TZOFFSETTO:-0400
TZNAME:EDT
DTSTART:20220313T070000
END:DAYLIGHT
BEGIN:STANDARD
TZOFFSETFROM:-0400
TZOFFSETTO:-0500
TZNAME:EST
DTSTART:20221106T060000
END:STANDARD
BEGIN:DAYLIGHT
TZOFFSETFROM:-0500
TZOFFSETTO:-0400
TZNAME:EDT
DTSTART:20230312T070000
END:DAYLIGHT
BEGIN:STANDARD
TZOFFSETFROM:-0400
TZOFFSETTO:-0500
TZNAME:EST
DTSTART:20231105T060000
END:STANDARD
END:VTIMEZONE
BEGIN:VEVENT
DTSTART;TZID=America/New_York:20220521T100000
DTEND;TZID=America/New_York:20220521T150000
DTSTAMP:20260422T215222
CREATED:20220424T142703Z
LAST-MODIFIED:20220519T224432Z
UID:6347-1653127200-1653145200@www.train-museum.org
SUMMARY:Celebration of the Authentic Car
DESCRIPTION:The Celebration of the Authentic Car (CofAC) event was created to showcase authentic\, unmodified\, and historic pre-war cars\, 1948 and earlier\, and to benefit the non-profit Southeastern Railway Museum. Museum admission required to attend show. All authentic cars\, through 1948\, restored or not\, are invited to participate. The idea is that cars in the CotAC show appear visually as they did when new and also maintain their original style drivetrain. \nDetermination of a particular car’s eligibility will be solely at the discretion of the CotAC staff. Car entry fee is a donation to the Southeastern Railway Museum in any amount. Feel free to be generous! No formal judging\, only ‘Peoples Choice’ awards. Plenty of trailer parking. For more information\, contact Gregory Wells at 404-610-4524 or greg@slotblog.net. Please click here for more information regarding participation. \nRegistration and parking lots for CotAC will open for entrants at 8am\, May 21\, 2022. The show will be open to the public from 10am-3pm. Those wishing to view the cars can purchase advance tickets here. \nA food tent will be open for everyone.
URL:https://www.train-museum.org/event/celebration-of-authentic-cars/
LOCATION:Southeastern Railway Museum\, 3595 Buford Hwy\, Duluth\, GA\, 30096\, United States
CATEGORIES:Event
ORGANIZER;CN="Celebration of the Authentic Car":MAILTO:greg@slotblog.net
END:VEVENT
END:VCALENDAR