BEGIN:VCALENDAR
VERSION:2.0
PRODID:-//Southeastern Railway Museum - ECPv6.15.17.1//NONSGML v1.0//EN
CALSCALE:GREGORIAN
METHOD:PUBLISH
X-ORIGINAL-URL:https://www.train-museum.org
X-WR-CALDESC:Events for Southeastern Railway Museum
REFRESH-INTERVAL;VALUE=DURATION:PT1H
X-Robots-Tag:noindex
X-PUBLISHED-TTL:PT1H
BEGIN:VTIMEZONE
TZID:America/New_York
BEGIN:DAYLIGHT
TZOFFSETFROM:-0500
TZOFFSETTO:-0400
TZNAME:EDT
DTSTART:20210314T070000
END:DAYLIGHT
BEGIN:STANDARD
TZOFFSETFROM:-0400
TZOFFSETTO:-0500
TZNAME:EST
DTSTART:20211107T060000
END:STANDARD
BEGIN:DAYLIGHT
TZOFFSETFROM:-0500
TZOFFSETTO:-0400
TZNAME:EDT
DTSTART:20220313T070000
END:DAYLIGHT
BEGIN:STANDARD
TZOFFSETFROM:-0400
TZOFFSETTO:-0500
TZNAME:EST
DTSTART:20221106T060000
END:STANDARD
BEGIN:DAYLIGHT
TZOFFSETFROM:-0500
TZOFFSETTO:-0400
TZNAME:EDT
DTSTART:20230312T070000
END:DAYLIGHT
BEGIN:STANDARD
TZOFFSETFROM:-0400
TZOFFSETTO:-0500
TZNAME:EST
DTSTART:20231105T060000
END:STANDARD
END:VTIMEZONE
BEGIN:VEVENT
DTSTART;TZID=America/New_York:20220205T100000
DTEND;TZID=America/New_York:20220205T170000
DTSTAMP:20260422T211444
CREATED:20220122T152136Z
LAST-MODIFIED:20220122T152253Z
UID:5387-1644055200-1644080400@www.train-museum.org
SUMMARY:Atlanta Typewriter Meet - Winter 2022
DESCRIPTION:All Types Welcome! \nThe Southeastern Railway Museum will host the Atlanta Typewriter Meet on February 5th between 10ap-5pm. During this event\, you are invited to type\, talk\, and trade typewriters. The meet will make a display of red\, white\, and pink typewriters for fun! \nMuseum visitors are invited to type out a special letter to the ones they love the most. \nTickets are available for purchase at the gate on the day of the event. \n 
URL:https://www.train-museum.org/event/atlanta-typewriter-meet-valentines-day-edition/
LOCATION:Southeastern Railway Museum\, 3595 Buford Hwy\, Duluth\, GA\, 30096\, United States
CATEGORIES:Event
ATTACH;FMTTYPE=image/jpeg:https://www.train-museum.org/wp-content/uploads/2022/01/Atlanta-Typewriter-Meet.jpg
END:VEVENT
END:VCALENDAR