BEGIN:VCALENDAR
VERSION:2.0
PRODID:-//Southeastern Railway Museum - ECPv6.15.17.1//NONSGML v1.0//EN
CALSCALE:GREGORIAN
METHOD:PUBLISH
X-ORIGINAL-URL:https://www.train-museum.org
X-WR-CALDESC:Events for Southeastern Railway Museum
REFRESH-INTERVAL;VALUE=DURATION:PT1H
X-Robots-Tag:noindex
X-PUBLISHED-TTL:PT1H
BEGIN:VTIMEZONE
TZID:America/New_York
BEGIN:DAYLIGHT
TZOFFSETFROM:-0500
TZOFFSETTO:-0400
TZNAME:EDT
DTSTART:20240310T070000
END:DAYLIGHT
BEGIN:STANDARD
TZOFFSETFROM:-0400
TZOFFSETTO:-0500
TZNAME:EST
DTSTART:20241103T060000
END:STANDARD
BEGIN:DAYLIGHT
TZOFFSETFROM:-0500
TZOFFSETTO:-0400
TZNAME:EDT
DTSTART:20250309T070000
END:DAYLIGHT
BEGIN:STANDARD
TZOFFSETFROM:-0400
TZOFFSETTO:-0500
TZNAME:EST
DTSTART:20251102T060000
END:STANDARD
BEGIN:DAYLIGHT
TZOFFSETFROM:-0500
TZOFFSETTO:-0400
TZNAME:EDT
DTSTART:20260308T070000
END:DAYLIGHT
BEGIN:STANDARD
TZOFFSETFROM:-0400
TZOFFSETTO:-0500
TZNAME:EST
DTSTART:20261101T060000
END:STANDARD
END:VTIMEZONE
BEGIN:VEVENT
DTSTART;TZID=America/New_York:20251009T103000
DTEND;TZID=America/New_York:20251009T120000
DTSTAMP:20260419T223741
CREATED:20250817T174505Z
LAST-MODIFIED:20250819T120820Z
UID:10831-1760005800-1760011200@www.train-museum.org
SUMMARY:October's 2nd Thursday Program - Safety Vehicles!
DESCRIPTION:Safety Vehicles \nOctober 9th\, 10:30 a.m. – 12:00 p.m. \nThe sirens are calling to alert you that this month’s Second Thursday toddler program is all about safety vehicles! Admission to Second Thursday includes a safety vehicle themed story time\, arts and craft\, game time\, the opportunity to see police cars and fire trucks up close\, and a ride on the historic park train! \nGet your tickets right here:  Southeastern Railway Museum via ThunderTix
URL:https://www.train-museum.org/event/octobers-2nd-thursday-program/
LOCATION:Southeastern Railway Museum\, 3595 Buford Hwy\, Duluth\, GA\, 30096\, United States
CATEGORIES:2nd Thursday
ATTACH;FMTTYPE=image/jpeg:https://www.train-museum.org/wp-content/uploads/2022/12/10-October-Safety-Vehicles.jpg
END:VEVENT
BEGIN:VEVENT
DTSTART;TZID=America/New_York:20251018T100000
DTEND;TZID=America/New_York:20251018T150000
DTSTAMP:20260419T223741
CREATED:20250817T181658Z
LAST-MODIFIED:20251015T155003Z
UID:10840-1760781600-1760799600@www.train-museum.org
SUMMARY:Train\, or Trunk\, or Treat!!!
DESCRIPTION:Oct.  18th. \nTrain or Trunk or Treat! It’s our Fall Classic Car show in the lot and Trick or Treat for the kids in Bldg. 1 and Trunk or Treat fun in the parking lot. Get your family and your car all dressed up and join us for our annual Train or Treat – or Trunk with so much candy our staff enjoys it for months. Music\, costume contest\, scavenger hunt\, classic cars\, \n  \n \n  \n…Top 10 for the cars\, treats from the car’s trunks\, train rides\, many of Duluth’s best business\, and\, did we mention\, trick or treat candy? Boo! Trunk or Treat car show gates and registration ($10 plus your candy) starts at 8:30 a.m. If you are interested in sponsoring the event and/or reserving a table to hand out candy (it’s a great community builder) write info @ train-museum dot com \nThanks to our generous sponsors: Raising Cane’s\, The Edmonson Law Firm\, LLC of Buford\, Agrisel USA of Suwanee\, and A & J’s Classic Cars. Additional support from American Street Machines in Lilburn.
URL:https://www.train-museum.org/event/train-or-trunk-or-treat/
LOCATION:Southeastern Railway Museum\, 3595 Buford Hwy\, Duluth\, GA\, 30096\, United States
CATEGORIES:Event
ATTACH;FMTTYPE=image/jpeg:https://www.train-museum.org/wp-content/uploads/2025/08/Rail-Trunk-Or-Treat-Logo-Color250-px.jpg
END:VEVENT
END:VCALENDAR