BEGIN:VCALENDAR
VERSION:2.0
PRODID:-//Southeastern Railway Museum - ECPv6.15.17.1//NONSGML v1.0//EN
CALSCALE:GREGORIAN
METHOD:PUBLISH
X-WR-CALNAME:Southeastern Railway Museum
X-ORIGINAL-URL:https://www.train-museum.org
X-WR-CALDESC:Events for Southeastern Railway Museum
REFRESH-INTERVAL;VALUE=DURATION:PT1H
X-Robots-Tag:noindex
X-PUBLISHED-TTL:PT1H
BEGIN:VTIMEZONE
TZID:America/New_York
BEGIN:DAYLIGHT
TZOFFSETFROM:-0500
TZOFFSETTO:-0400
TZNAME:EDT
DTSTART:20240310T070000
END:DAYLIGHT
BEGIN:STANDARD
TZOFFSETFROM:-0400
TZOFFSETTO:-0500
TZNAME:EST
DTSTART:20241103T060000
END:STANDARD
BEGIN:DAYLIGHT
TZOFFSETFROM:-0500
TZOFFSETTO:-0400
TZNAME:EDT
DTSTART:20250309T070000
END:DAYLIGHT
BEGIN:STANDARD
TZOFFSETFROM:-0400
TZOFFSETTO:-0500
TZNAME:EST
DTSTART:20251102T060000
END:STANDARD
BEGIN:DAYLIGHT
TZOFFSETFROM:-0500
TZOFFSETTO:-0400
TZNAME:EDT
DTSTART:20260308T070000
END:DAYLIGHT
BEGIN:STANDARD
TZOFFSETFROM:-0400
TZOFFSETTO:-0500
TZNAME:EST
DTSTART:20261101T060000
END:STANDARD
END:VTIMEZONE
BEGIN:VEVENT
DTSTART;TZID=America/New_York:20250911T103000
DTEND;TZID=America/New_York:20250911T120000
DTSTAMP:20260420T003102
CREATED:20250817T174028Z
LAST-MODIFIED:20250817T193846Z
UID:10828-1757586600-1757592000@www.train-museum.org
SUMMARY:September's 2nd Thursday - Tractors & Trains!
DESCRIPTION:Thursday\, September 11th\, 10:30a.m. \nOld McDonald had a tractor and will be bringing it to this month’s Second Thursday toddler program! Admission to Second Thursday includes a tractor-themed story time\, arts and craft\, game time\, the opportunity to see a tractor up close\, and a ride on the historic park train! \nAdvance tickets right here – Southeastern Railway Museum via ThunderTix
URL:https://www.train-museum.org/event/septembers-2nd-thursday-tractors-trains/
LOCATION:Southeastern Railway Museum\, 3595 Buford Hwy\, Duluth\, GA\, 30096\, United States
CATEGORIES:2nd Thursday
ATTACH;FMTTYPE=image/jpeg:https://www.train-museum.org/wp-content/uploads/2022/12/8-August-Tractors.jpg
END:VEVENT
BEGIN:VEVENT
DTSTART;TZID=America/New_York:20250913T100000
DTEND;TZID=America/New_York:20250913T170000
DTSTAMP:20260420T003102
CREATED:20250817T180236Z
LAST-MODIFIED:20250817T194044Z
UID:10837-1757757600-1757782800@www.train-museum.org
SUMMARY:The Great Atlanta Typewriter Meet!!
DESCRIPTION:Today it’s called “keyboarding.” Back in the day it was “typewriting\,” as the man intended for home and for office. If you miss the clickity-clack of the office\, changing the typewriter ribbon\, fixing the key\, hitting that return bar just to hear the ding again\, even giving your fingers a decent workout – or if you’ve never experienced the wonder of mechanized communication creation – well – this day’s for you courtesy of the Atlanta Typewriter Club and your favorite RR museum. Normal admission applies – ding!
URL:https://www.train-museum.org/event/the-great-atlanta-typewriter-meet/
LOCATION:Southeastern Railway Museum\, 3595 Buford Hwy\, Duluth\, GA\, 30096\, United States
CATEGORIES:Event
ATTACH;FMTTYPE=image/jpeg:https://www.train-museum.org/wp-content/uploads/2025/08/Typewriter-meet.jpg
END:VEVENT
END:VCALENDAR