BEGIN:VCALENDAR
VERSION:2.0
PRODID:-//Southeastern Railway Museum - ECPv6.15.17.1//NONSGML v1.0//EN
CALSCALE:GREGORIAN
METHOD:PUBLISH
X-WR-CALNAME:Southeastern Railway Museum
X-ORIGINAL-URL:https://www.train-museum.org
X-WR-CALDESC:Events for Southeastern Railway Museum
REFRESH-INTERVAL;VALUE=DURATION:PT1H
X-Robots-Tag:noindex
X-PUBLISHED-TTL:PT1H
BEGIN:VTIMEZONE
TZID:America/New_York
BEGIN:DAYLIGHT
TZOFFSETFROM:-0500
TZOFFSETTO:-0400
TZNAME:EDT
DTSTART:20240310T070000
END:DAYLIGHT
BEGIN:STANDARD
TZOFFSETFROM:-0400
TZOFFSETTO:-0500
TZNAME:EST
DTSTART:20241103T060000
END:STANDARD
BEGIN:DAYLIGHT
TZOFFSETFROM:-0500
TZOFFSETTO:-0400
TZNAME:EDT
DTSTART:20250309T070000
END:DAYLIGHT
BEGIN:STANDARD
TZOFFSETFROM:-0400
TZOFFSETTO:-0500
TZNAME:EST
DTSTART:20251102T060000
END:STANDARD
BEGIN:DAYLIGHT
TZOFFSETFROM:-0500
TZOFFSETTO:-0400
TZNAME:EDT
DTSTART:20260308T070000
END:DAYLIGHT
BEGIN:STANDARD
TZOFFSETFROM:-0400
TZOFFSETTO:-0500
TZNAME:EST
DTSTART:20261101T060000
END:STANDARD
END:VTIMEZONE
BEGIN:VEVENT
DTSTART;TZID=America/New_York:20250714T090000
DTEND;TZID=America/New_York:20250718T130000
DTSTAMP:20260420T034426
CREATED:20250318T111747Z
LAST-MODIFIED:20250622T185931Z
UID:9957-1752483600-1752843600@www.train-museum.org
SUMMARY:Summer Camp 2025!  July 14 - 18
DESCRIPTION:SRM’s July Summer Camp is back and better! We’ll feature S&A 750\, Pullman Superb\, the Campbell Limestone Heisler\, our GE 50 Tonner SRM 3\, the General II\, a caboose\, our famous Duluth\, Southern and Coastline Park Train\, crafts\, snacks\, lessons\, games\, and more. Campers should be in the 5-12 year range. The July camp’s early registration ends June 28. Full fare registration after June 28. info@train-museum.com. All aboard! \n 
URL:https://www.train-museum.org/event/summer-camp-2025-july-14-18/
LOCATION:Southeastern Railway Museum\, 3595 Buford Hwy\, Duluth\, GA\, 30096\, United States
END:VEVENT
END:VCALENDAR