BEGIN:VCALENDAR
VERSION:2.0
PRODID:-//Southeastern Railway Museum - ECPv6.15.17.1//NONSGML v1.0//EN
CALSCALE:GREGORIAN
METHOD:PUBLISH
X-WR-CALNAME:Southeastern Railway Museum
X-ORIGINAL-URL:https://www.train-museum.org
X-WR-CALDESC:Events for Southeastern Railway Museum
REFRESH-INTERVAL;VALUE=DURATION:PT1H
X-Robots-Tag:noindex
X-PUBLISHED-TTL:PT1H
BEGIN:VTIMEZONE
TZID:America/New_York
BEGIN:DAYLIGHT
TZOFFSETFROM:-0500
TZOFFSETTO:-0400
TZNAME:EDT
DTSTART:20240310T070000
END:DAYLIGHT
BEGIN:STANDARD
TZOFFSETFROM:-0400
TZOFFSETTO:-0500
TZNAME:EST
DTSTART:20241103T060000
END:STANDARD
BEGIN:DAYLIGHT
TZOFFSETFROM:-0500
TZOFFSETTO:-0400
TZNAME:EDT
DTSTART:20250309T070000
END:DAYLIGHT
BEGIN:STANDARD
TZOFFSETFROM:-0400
TZOFFSETTO:-0500
TZNAME:EST
DTSTART:20251102T060000
END:STANDARD
BEGIN:DAYLIGHT
TZOFFSETFROM:-0500
TZOFFSETTO:-0400
TZNAME:EDT
DTSTART:20260308T070000
END:DAYLIGHT
BEGIN:STANDARD
TZOFFSETFROM:-0400
TZOFFSETTO:-0500
TZNAME:EST
DTSTART:20261101T060000
END:STANDARD
END:VTIMEZONE
BEGIN:VEVENT
DTSTART;TZID=America/New_York:20250508T103000
DTEND;TZID=America/New_York:20250508T120000
DTSTAMP:20260422T055310
CREATED:20250308T133234Z
LAST-MODIFIED:20250308T133234Z
UID:9476-1746700200-1746705600@www.train-museum.org
SUMMARY:2nd Thursday - Rockets & Drones!
DESCRIPTION:May – Rocket\, Space\, Drones\nJoin us for our Second Thursday toddler program as we prepare to blast off into learning about special flying vehicles! Admission to Second Thursday includes a rocket themed story time\, arts and craft\, social activity\, the opportunity to stomp launch your own rocket\, and a ride on the historic park train! Tickets available one month before this session.
URL:https://www.train-museum.org/event/2nd-thursday-rockets-drones/
LOCATION:Southeastern Railway Museum\, 3595 Buford Hwy\, Duluth\, GA\, 30096\, United States
END:VEVENT
BEGIN:VEVENT
DTSTART;TZID=America/New_York:20250510T100000
DTEND;TZID=America/New_York:20250511T170000
DTSTAMP:20260422T055310
CREATED:20250317T210400Z
LAST-MODIFIED:20250317T210400Z
UID:9951-1746871200-1746982800@www.train-museum.org
SUMMARY:National Train Day -  AND - Mother's Day Weekend
DESCRIPTION:National Train Day is observed this year on Saturday\, May 10\, also the 156th anniversary of the driving of the Golden Spike and ALSO it’s a day before Mother’s Day\, May 11! IDEA! Hey kids! Bring your mom this weekend. She gets in free\, that’s right\, notta\, nothing\, a freebie!  Thank you\, Mom(s)! \n  \n \nDad snapping a pic of mother\, Gertrude\, her ’54 Roadmaster and (ever the railfan) UP Challenger 3935 near Lostmyhat\, NE\, 1955. \n  \n \nAnd since we are a “transportation museum\,” dad’s pic of mom as a “stew” for United at Midway with a DC-6\, 1955
URL:https://www.train-museum.org/event/national-train-day-and-mothers-day-weekend/
LOCATION:GA
END:VEVENT
BEGIN:VEVENT
DTSTART;TZID=America/New_York:20250531T083000
DTEND;TZID=America/New_York:20250531T140000
DTSTAMP:20260422T055310
CREATED:20250220T191145Z
LAST-MODIFIED:20250506T135643Z
UID:9277-1748680200-1748700000@www.train-museum.org
SUMMARY:Wheels & Rails Car Show - 2025
DESCRIPTION:Bring your ride\, we’ll give you a ride! It’s an all-makes\, all-models\, all-years open show for cool cars\, classics\, muscle cars\, modified\, box stock\, old-timers\, pickups\, and motorcycles. Registration gets you into the museum for big trains\, taxis\, buses\, small trains\, smaller trains…Top 20 trophies\, catering from Cassie’s Kitchen\, DJ Rockin Wheelz\, and more.  We thank our sponsors\, Duluth Fall Fest\, New Star Autobody\, Tow Pro\, Howard Brothers Hardware\, Raising Canes\, and Trust Bank – all servicing Duluth. Saturday\, May 31. Gates at 8:30 a.m.\, show 10 a.m.- 2 p.m. Rain date is June 1 (gates at 10:30 a.m. show 12-4). Registration is $20.00.  Click right here: \n\nhttps://southeasternrailwaymuseum.thundertix.com/events\n\n \nProceeds benefit the museum. Save that date! \n  \n  \n 
URL:https://www.train-museum.org/event/wheels-rails-car-show/
LOCATION:Southeastern Railway Museum\, 3595 Buford Hwy\, Duluth\, GA\, 30096\, United States
CATEGORIES:Event
END:VEVENT
END:VCALENDAR