BEGIN:VCALENDAR
VERSION:2.0
PRODID:-//Southeastern Railway Museum - ECPv6.15.17.1//NONSGML v1.0//EN
CALSCALE:GREGORIAN
METHOD:PUBLISH
X-WR-CALNAME:Southeastern Railway Museum
X-ORIGINAL-URL:https://www.train-museum.org
X-WR-CALDESC:Events for Southeastern Railway Museum
REFRESH-INTERVAL;VALUE=DURATION:PT1H
X-Robots-Tag:noindex
X-PUBLISHED-TTL:PT1H
BEGIN:VTIMEZONE
TZID:America/New_York
BEGIN:DAYLIGHT
TZOFFSETFROM:-0500
TZOFFSETTO:-0400
TZNAME:EDT
DTSTART:20240310T070000
END:DAYLIGHT
BEGIN:STANDARD
TZOFFSETFROM:-0400
TZOFFSETTO:-0500
TZNAME:EST
DTSTART:20241103T060000
END:STANDARD
BEGIN:DAYLIGHT
TZOFFSETFROM:-0500
TZOFFSETTO:-0400
TZNAME:EDT
DTSTART:20250309T070000
END:DAYLIGHT
BEGIN:STANDARD
TZOFFSETFROM:-0400
TZOFFSETTO:-0500
TZNAME:EST
DTSTART:20251102T060000
END:STANDARD
BEGIN:DAYLIGHT
TZOFFSETFROM:-0500
TZOFFSETTO:-0400
TZNAME:EDT
DTSTART:20260308T070000
END:DAYLIGHT
BEGIN:STANDARD
TZOFFSETFROM:-0400
TZOFFSETTO:-0500
TZNAME:EST
DTSTART:20261101T060000
END:STANDARD
END:VTIMEZONE
BEGIN:VEVENT
DTSTART;TZID=America/New_York:20250410T103000
DTEND;TZID=America/New_York:20250410T120000
DTSTAMP:20260421T091834
CREATED:20250307T202542Z
LAST-MODIFIED:20250307T202542Z
UID:9473-1744281000-1744286400@www.train-museum.org
SUMMARY:2nd Thursday - Cars!
DESCRIPTION:April – Cars (Antique and Sports) – Car Safety\nBuckle up for an exciting morning all about cars! Learn about the different types of standard driving vehicles with an accompanying lesson on essential safety procedures. Admission to Second Thursday includes a car themed story time\, arts and craft\, social activity\, the opportunity to see a car up close\, and a ride on the historic park train!  Tickets will be available here:  https://www.train-museum.org/plan-your-visit/ \n 
URL:https://www.train-museum.org/event/2nd-thursday-cars/
LOCATION:GA
END:VEVENT
BEGIN:VEVENT
DTSTART;TZID=America/New_York:20250418T093000
DTEND;TZID=America/New_York:20250420T170000
DTSTAMP:20260421T091834
CREATED:20250220T190710Z
LAST-MODIFIED:20250418T200738Z
UID:9274-1744968600-1745168400@www.train-museum.org
SUMMARY:Track Speeder Days
DESCRIPTION:Back by popular demand\, it’s Track Speeder Days! These are the little powered cars maintenance of way crews used to get from point to point. Rides will be offered Saturday\, April 19 for a minor charge but trust us\, it’s worth it – zooming up and down the museum tracks. Normal admission applies. \n 
URL:https://www.train-museum.org/event/track-speeder-days-2/
LOCATION:Southeastern Railway Museum\, 3595 Buford Hwy\, Duluth\, GA\, 30096\, United States
END:VEVENT
END:VCALENDAR