BEGIN:VCALENDAR
VERSION:2.0
PRODID:-//Southeastern Railway Museum - ECPv6.15.17.1//NONSGML v1.0//EN
CALSCALE:GREGORIAN
METHOD:PUBLISH
X-WR-CALNAME:Southeastern Railway Museum
X-ORIGINAL-URL:https://www.train-museum.org
X-WR-CALDESC:Events for Southeastern Railway Museum
REFRESH-INTERVAL;VALUE=DURATION:PT1H
X-Robots-Tag:noindex
X-PUBLISHED-TTL:PT1H
BEGIN:VTIMEZONE
TZID:America/New_York
BEGIN:DAYLIGHT
TZOFFSETFROM:-0500
TZOFFSETTO:-0400
TZNAME:EDT
DTSTART:20240310T070000
END:DAYLIGHT
BEGIN:STANDARD
TZOFFSETFROM:-0400
TZOFFSETTO:-0500
TZNAME:EST
DTSTART:20241103T060000
END:STANDARD
BEGIN:DAYLIGHT
TZOFFSETFROM:-0500
TZOFFSETTO:-0400
TZNAME:EDT
DTSTART:20250309T070000
END:DAYLIGHT
BEGIN:STANDARD
TZOFFSETFROM:-0400
TZOFFSETTO:-0500
TZNAME:EST
DTSTART:20251102T060000
END:STANDARD
BEGIN:DAYLIGHT
TZOFFSETFROM:-0500
TZOFFSETTO:-0400
TZNAME:EDT
DTSTART:20260308T070000
END:DAYLIGHT
BEGIN:STANDARD
TZOFFSETFROM:-0400
TZOFFSETTO:-0500
TZNAME:EST
DTSTART:20261101T060000
END:STANDARD
END:VTIMEZONE
BEGIN:VEVENT
DTSTART;TZID=America/New_York:20250213T103000
DTEND;TZID=America/New_York:20250213T120000
DTSTAMP:20260421T063349
CREATED:20241221T181048Z
LAST-MODIFIED:20241221T181048Z
UID:9167-1739442600-1739448000@www.train-museum.org
SUMMARY:2nd Thursday - Feb. '25  Construction Vehicles
DESCRIPTION:Join us for our Second Thursday preschool program\, Feb. 13 at 10:30 a.m.. This month’s vehicle is Construction Vehicles! Build your knowledge about the different types of powerful machines that construct our roads\, bridges\, and buildings! Admission to Second Thursday includes a Construction themed story time\, arts and craft\, social activity\, the opportunity to experience a construction vehicle up close\, and a ride on the historic park train! \n 
URL:https://www.train-museum.org/event/2nd-thursday-feb-25-construction-vehicles/
LOCATION:GA
CATEGORIES:2nd Thursday,Event
END:VEVENT
BEGIN:VEVENT
DTSTART;TZID=America/New_York:20250215T100000
DTEND;TZID=America/New_York:20250216T170000
DTSTAMP:20260421T063349
CREATED:20241221T184444Z
LAST-MODIFIED:20241221T184444Z
UID:9172-1739613600-1739725200@www.train-museum.org
SUMMARY:President's Day Weekend. Feb. 15 & 16
DESCRIPTION:Docent-led tours of our two Presidential Pullmans – the 1911 Superb used by President Warren Harding and the 1927 Marco Polo used by President Franklin Delano Roosevelt. In addition\, special guests from the Little White House in Warm Springs\, GA . Plus – we have new exhibits\, our rolling stock\, train rides\, and more. Bring your Valentine! Sat. Feb. 15 10a-5p\, Sun. Feb. 16 Noon – 5p. Regular admission applies.
URL:https://www.train-museum.org/event/presidents-day-weekend-feb-15-16/
LOCATION:GA
CATEGORIES:Event
END:VEVENT
END:VCALENDAR