BEGIN:VCALENDAR
VERSION:2.0
PRODID:-//Southeastern Railway Museum - ECPv6.15.17.1//NONSGML v1.0//EN
CALSCALE:GREGORIAN
METHOD:PUBLISH
X-ORIGINAL-URL:https://www.train-museum.org
X-WR-CALDESC:Events for Southeastern Railway Museum
REFRESH-INTERVAL;VALUE=DURATION:PT1H
X-Robots-Tag:noindex
X-PUBLISHED-TTL:PT1H
BEGIN:VTIMEZONE
TZID:America/New_York
BEGIN:DAYLIGHT
TZOFFSETFROM:-0500
TZOFFSETTO:-0400
TZNAME:EDT
DTSTART:20230312T070000
END:DAYLIGHT
BEGIN:STANDARD
TZOFFSETFROM:-0400
TZOFFSETTO:-0500
TZNAME:EST
DTSTART:20231105T060000
END:STANDARD
BEGIN:DAYLIGHT
TZOFFSETFROM:-0500
TZOFFSETTO:-0400
TZNAME:EDT
DTSTART:20240310T070000
END:DAYLIGHT
BEGIN:STANDARD
TZOFFSETFROM:-0400
TZOFFSETTO:-0500
TZNAME:EST
DTSTART:20241103T060000
END:STANDARD
BEGIN:DAYLIGHT
TZOFFSETFROM:-0500
TZOFFSETTO:-0400
TZNAME:EDT
DTSTART:20250309T070000
END:DAYLIGHT
BEGIN:STANDARD
TZOFFSETFROM:-0400
TZOFFSETTO:-0500
TZNAME:EST
DTSTART:20251102T060000
END:STANDARD
END:VTIMEZONE
BEGIN:VEVENT
DTSTART;TZID=America/New_York:20241006T100000
DTEND;TZID=America/New_York:20241229T170000
DTSTAMP:20260419T085422
CREATED:20241005T140038Z
LAST-MODIFIED:20241202T204650Z
UID:8964-1728208800-1735491600@www.train-museum.org
SUMMARY:Beebe and Clegg: Their Enduring Photographic Legacy - An Exhibition
DESCRIPTION:“With dramatic images and sweeping promotional strategies\, Lucius Beebe—joined in 1941 by his life partner Charles Clegg—introduced railroad photography and the world of railroading to wide popular audiences. Their pioneering efforts established a broad market and wide appreciation for rail photography\, leading to its far-reaching appeal in print today. \nLucius Beebe (left) and Charles Clegg pose along the tracks of the Southern Pacific narrow gauge in the Owens Valley of California.\nBeebe and Clegg were the right people at the right time to bring the heroism\, charm\, and history of railroading to the public. Their photography and their writing demonstrated the importance of railroading in community life and contributed to America’s historical legacy. Together Beebe and Clegg created more than thirty books on railroading and Western Americana. Their legacy has grown larger than the publications they produced\, as they demonstrated that the railroad serves the nation as an icon of American experience.” \nWith several prints never before seen by the public\, the exhibition Beebe & Clegg: Their Enduring Photographic Legacy has been assembled by the Center for Railroad Photography from source material of the book of the same title (The Center for Railroad Photography & Art\, 2018). The exhibit is supported by a grant from the Gwinnett Creativity Fund. \n \nThe show will be ongoing through Dec. 29.\, during normal museum hours\, Thursdays – Saturdays 10a-5p\, Sundays 12-5p\, in the exhibit hall of Building 1 on the Southeastern Railway Museum. Normal admission fees apply. \nCharles Clegg\, captured a domineering plume of smoke from Santa Fe locomotive 3214 as the brakeman stands on the locomotive\, indicating that it is shoving the train up Raton Pass.
URL:https://www.train-museum.org/event/beebe-and-clegg-their-enduring-photographic-legacy-an-exhibition/
LOCATION:Southeastern Railway Museum\, 3595 Buford Hwy\, Duluth\, GA\, 30096\, United States
CATEGORIES:Event
END:VEVENT
BEGIN:VEVENT
DTSTART;TZID=America/New_York:20241025T080000
DTEND;TZID=America/New_York:20241025T170000
DTSTAMP:20260419T085422
CREATED:20241025T154534Z
LAST-MODIFIED:20241025T202152Z
UID:9089-1729843200-1729875600@www.train-museum.org
SUMMARY:11/16-12/29   Duluth Fine Arts League "Festival of Trees!"
DESCRIPTION:        The Southeastern Railway Museum is pleased to host the Duluth Fine Arts League’s “Festival of Trees!” again this year. The six week run with 70+ trees begins Saturday\, November 11 and welcomes the arrival of Santa Claus by train at 1:00 p.m. Complimentary family portraits will likely be shot in the Building 2 passenger area by a professional photographer who will quickly email your images. \n \nThe likely spot for portraits with Santa\, dressed up\, of course. \n       The “Festival of Trees” features area businesses and their creativity at each display. And it’s not just trees. You’re visit includes train rides\, walks through some of the rolling stock\, the bus collection\, the Beebe & Clegg photo exhibit\, and much more. We’re extending our hours to give your family a better chance at enjoying the “Festival of Trees” as well. Holiday hours between Nov. 16 and Dec. 29 will be 10:00 a.m. to 8:00 p.m. Thursday and Friday\, 10:00 a.m. to 5:00 p.m. Saturdays\, noon to 5:00 p.m. Sundays. Normal admission applies. \n \n  \n 
URL:https://www.train-museum.org/event/duluth-fine-arts-league-festival-of-trees/
LOCATION:GA
END:VEVENT
BEGIN:VEVENT
DTSTART;TZID=America/New_York:20241026T110000
DTEND;TZID=America/New_York:20241026T150000
DTSTAMP:20260419T085422
CREATED:20240611T145250Z
LAST-MODIFIED:20241023T205016Z
UID:7844-1729940400-1729954800@www.train-museum.org
SUMMARY:Train or Treat!
DESCRIPTION:We’re coming back with Halloween fun for kids – of all ages. More details soon but we think it’s going to be a haunting good time.
URL:https://www.train-museum.org/event/train-or-treat-3/
LOCATION:Southeastern Railway Museum\, 3595 Buford Hwy\, Duluth\, GA\, 30096\, United States
ATTACH;FMTTYPE=image/jpeg:https://www.train-museum.org/wp-content/uploads/2024/06/train-or-treat.jpg
END:VEVENT
END:VCALENDAR