BEGIN:VCALENDAR
VERSION:2.0
PRODID:-//Southeastern Railway Museum - ECPv6.15.17.1//NONSGML v1.0//EN
CALSCALE:GREGORIAN
METHOD:PUBLISH
X-ORIGINAL-URL:https://www.train-museum.org
X-WR-CALDESC:Events for Southeastern Railway Museum
REFRESH-INTERVAL;VALUE=DURATION:PT1H
X-Robots-Tag:noindex
X-PUBLISHED-TTL:PT1H
BEGIN:VTIMEZONE
TZID:America/New_York
BEGIN:DAYLIGHT
TZOFFSETFROM:-0500
TZOFFSETTO:-0400
TZNAME:EDT
DTSTART:20230312T070000
END:DAYLIGHT
BEGIN:STANDARD
TZOFFSETFROM:-0400
TZOFFSETTO:-0500
TZNAME:EST
DTSTART:20231105T060000
END:STANDARD
BEGIN:DAYLIGHT
TZOFFSETFROM:-0500
TZOFFSETTO:-0400
TZNAME:EDT
DTSTART:20240310T070000
END:DAYLIGHT
BEGIN:STANDARD
TZOFFSETFROM:-0400
TZOFFSETTO:-0500
TZNAME:EST
DTSTART:20241103T060000
END:STANDARD
BEGIN:DAYLIGHT
TZOFFSETFROM:-0500
TZOFFSETTO:-0400
TZNAME:EDT
DTSTART:20250309T070000
END:DAYLIGHT
BEGIN:STANDARD
TZOFFSETFROM:-0400
TZOFFSETTO:-0500
TZNAME:EST
DTSTART:20251102T060000
END:STANDARD
END:VTIMEZONE
BEGIN:VEVENT
DTSTART;VALUE=DATE:20240323
DTEND;VALUE=DATE:20240325
DTSTAMP:20260419T194919
CREATED:20240110T212144Z
LAST-MODIFIED:20240305T194556Z
UID:7302-1711152000-1711324799@www.train-museum.org
SUMMARY:Annual Southeastern Railway Museum Spring Cleaning Sale
DESCRIPTION:The Annual Southeastern Railway Museum (SRM) Spring Cleaning Sale! Donate your gently used model RR gear\, railroadiana\, books\, art\, gear\, diecast trucks & cars\, airline memorabilia\, transportation related items\, and etc. to the museum by Sunday\, March 10. All items will join SRM’s surplus items in a weekend long garage sale held in Building 1. Normal admission applies. Visit our sale\, ride a train\, walk the grounds\, and do some shopping. Proceeds will benefit the general operations of the museum. We reserve the right to accept all donations. \nFor more information and/or to donate: execdirector@train-museum.com
URL:https://www.train-museum.org/event/annual-southeastern-railway-museum-spring-cleaning-sale/
LOCATION:Southeastern Railway Museum\, 3595 Buford Hwy\, Duluth\, GA\, 30096\, United States
END:VEVENT
END:VCALENDAR