BEGIN:VCALENDAR
VERSION:2.0
PRODID:-//Southeastern Railway Museum - ECPv6.15.17.1//NONSGML v1.0//EN
CALSCALE:GREGORIAN
METHOD:PUBLISH
X-ORIGINAL-URL:https://www.train-museum.org
X-WR-CALDESC:Events for Southeastern Railway Museum
REFRESH-INTERVAL;VALUE=DURATION:PT1H
X-Robots-Tag:noindex
X-PUBLISHED-TTL:PT1H
BEGIN:VTIMEZONE
TZID:America/New_York
BEGIN:DAYLIGHT
TZOFFSETFROM:-0500
TZOFFSETTO:-0400
TZNAME:EDT
DTSTART:20220313T070000
END:DAYLIGHT
BEGIN:STANDARD
TZOFFSETFROM:-0400
TZOFFSETTO:-0500
TZNAME:EST
DTSTART:20221106T060000
END:STANDARD
BEGIN:DAYLIGHT
TZOFFSETFROM:-0500
TZOFFSETTO:-0400
TZNAME:EDT
DTSTART:20230312T070000
END:DAYLIGHT
BEGIN:STANDARD
TZOFFSETFROM:-0400
TZOFFSETTO:-0500
TZNAME:EST
DTSTART:20231105T060000
END:STANDARD
BEGIN:DAYLIGHT
TZOFFSETFROM:-0500
TZOFFSETTO:-0400
TZNAME:EDT
DTSTART:20240310T070000
END:DAYLIGHT
BEGIN:STANDARD
TZOFFSETFROM:-0400
TZOFFSETTO:-0500
TZNAME:EST
DTSTART:20241103T060000
END:STANDARD
END:VTIMEZONE
BEGIN:VEVENT
DTSTART;TZID=America/New_York:20231012T103000
DTEND;TZID=America/New_York:20231012T114500
DTSTAMP:20260420T034543
CREATED:20221231T011326Z
LAST-MODIFIED:20221231T011326Z
UID:6836-1697106600-1697111100@www.train-museum.org
SUMMARY:Second Thursday - Safety Vehicles
DESCRIPTION:On the 2nd Thursday of each month\, join us with your 2- to 4-year-old child for our morning pre-school program at the Southeastern Railway Museum. \nThis is an interactive educational program that allows the parent and child to participate together in activities related to our vehicle of the month. There are 5 components to the program: \n\nGame\nStory/Song\nActivity\nCrafts\nAnd explore one of the many trains on site!\n\nEach component lasts 15 minutes and is facilitated by the Southeastern Railway Museum’s Education Conductors. \nTickets can be purchased at the gate on the day of the event or  online a month before the event by clicking here.
URL:https://www.train-museum.org/event/second-thursday-safety-vehicles/
LOCATION:Southeastern Railway Museum\, 3595 Buford Hwy\, Duluth\, GA\, 30096\, United States
CATEGORIES:2nd Thursday
ATTACH;FMTTYPE=image/jpeg:https://www.train-museum.org/wp-content/uploads/2022/12/10-October-Safety-Vehicles.jpg
END:VEVENT
END:VCALENDAR