BEGIN:VCALENDAR
VERSION:2.0
PRODID:-//Southeastern Railway Museum - ECPv6.15.17.1//NONSGML v1.0//EN
CALSCALE:GREGORIAN
METHOD:PUBLISH
X-WR-CALNAME:Southeastern Railway Museum
X-ORIGINAL-URL:https://www.train-museum.org
X-WR-CALDESC:Events for Southeastern Railway Museum
REFRESH-INTERVAL;VALUE=DURATION:PT1H
X-Robots-Tag:noindex
X-PUBLISHED-TTL:PT1H
BEGIN:VTIMEZONE
TZID:America/New_York
BEGIN:DAYLIGHT
TZOFFSETFROM:-0500
TZOFFSETTO:-0400
TZNAME:EDT
DTSTART:20220313T070000
END:DAYLIGHT
BEGIN:STANDARD
TZOFFSETFROM:-0400
TZOFFSETTO:-0500
TZNAME:EST
DTSTART:20221106T060000
END:STANDARD
BEGIN:DAYLIGHT
TZOFFSETFROM:-0500
TZOFFSETTO:-0400
TZNAME:EDT
DTSTART:20230312T070000
END:DAYLIGHT
BEGIN:STANDARD
TZOFFSETFROM:-0400
TZOFFSETTO:-0500
TZNAME:EST
DTSTART:20231105T060000
END:STANDARD
BEGIN:DAYLIGHT
TZOFFSETFROM:-0500
TZOFFSETTO:-0400
TZNAME:EDT
DTSTART:20240310T070000
END:DAYLIGHT
BEGIN:STANDARD
TZOFFSETFROM:-0400
TZOFFSETTO:-0500
TZNAME:EST
DTSTART:20241103T060000
END:STANDARD
END:VTIMEZONE
BEGIN:VEVENT
DTSTART;TZID=America/New_York:20230805T100000
DTEND;TZID=America/New_York:20230805T170000
DTSTAMP:20260422T055311
CREATED:20230220T205000Z
LAST-MODIFIED:20230710T120426Z
UID:6923-1691229600-1691254800@www.train-museum.org
SUMMARY:Triple T! (Trains\, Trucks\, & Tractors)
DESCRIPTION:Thank you to our event Sponsor\, Suzanna’s Kitchen \nThis event is part train\, part truck show\, part tractor show and all fun. There will be an assortment of trucks and tractors of different vintages on exhibit in addition to the museum’s historical trains and transit collections.Special exhibits are all provided by volunteers throughout the community and donate their time to make this event a success. Special exhibits are included in your museum admission. If you have an antique (be it car\, truck\, tractor or grandparent) bring them out and show off. The event is included in (and requires) museum admission. $18 adults\, $15 seniors\, $12 children 2-12. Children under 2 are free\, we do ask that you enter the number of them attending so we can maintain a count. Hayrides\, if available\, are handled by the various tractor clubs participating in the event with a minor donation \nAdvance tickets are available on our ticketing website\, ThunderTix \nCab rides in 6901\, the museum’s historical Southern E8 locomotive will be offered throughout the day on Saturday\, Aug 5. Tickets are on the ticketing website\, ThunderTix\, and must be purchased in advance. You must be 13 years of age and able to physically get up and down the ladder (vertical) to participate.
URL:https://www.train-museum.org/event/triple-t-trains-trucks-tractors/
LOCATION:Southeastern Railway Museum\, 3595 Buford Hwy\, Duluth\, GA\, 30096\, United States
CATEGORIES:Event
ATTACH;FMTTYPE=image/jpeg:https://www.train-museum.org/wp-content/uploads/2023/02/Triple-T.jpg
END:VEVENT
BEGIN:VEVENT
DTSTART;TZID=America/New_York:20230806T130000
DTEND;TZID=America/New_York:20230806T170000
DTSTAMP:20260422T055311
CREATED:20230220T205109Z
LAST-MODIFIED:20230710T120545Z
UID:6925-1691326800-1691341200@www.train-museum.org
SUMMARY:Triple T! (Trains\, Trucks\, & Tractors)
DESCRIPTION:Thank you to our event Sponsor\, Suzanna’s Kitchen \nThis event is part train\, part truck show\, part tractor show and all fun. There will be an assortment of trucks and tractors of different vintages on exhibit in addition to the museum’s historical trains and transit collections.Special exhibits are all provided by volunteers throughout the community and donate their time to make this event a success. Special exhibits are included in your museum admission. If you have an antique (be it car\, truck\, tractor or grandparent) bring them out and show off. The event is included in (and requires) museum admission. $18 adults\, $15 seniors\, $12 children 2-12. Children under 2 are free\, we do ask that you enter the number of them attending so we can maintain a count. Hayrides\, if available\, are handled by the various tractor clubs participating in the event with a minor donation \nAdvance tickets are available on our ticketing website\, ThunderTix
URL:https://www.train-museum.org/event/triple-t-trains-trucks-tractors-2/
LOCATION:Southeastern Railway Museum\, 3595 Buford Hwy\, Duluth\, GA\, 30096\, United States
CATEGORIES:Event
ATTACH;FMTTYPE=image/jpeg:https://www.train-museum.org/wp-content/uploads/2023/02/Triple-T.jpg
END:VEVENT
BEGIN:VEVENT
DTSTART;TZID=America/New_York:20230810T103000
DTEND;TZID=America/New_York:20230810T114500
DTSTAMP:20260422T055311
CREATED:20221231T011010Z
LAST-MODIFIED:20221231T011010Z
UID:6832-1691663400-1691667900@www.train-museum.org
SUMMARY:Second Thursday - Tractors
DESCRIPTION:On the 2nd Thursday of each month\, join us with your 2- to 4-year-old child for our morning pre-school program at the Southeastern Railway Museum. \nThis is an interactive educational program that allows the parent and child to participate together in activities related to our vehicle of the month. There are 5 components to the program: \n\nGame\nStory/Song\nActivity\nCrafts\nAnd explore one of the many trains on site!\n\nEach component lasts 15 minutes and is facilitated by the Southeastern Railway Museum’s Education Conductors. \nTickets can be purchased at the gate on the day of the event or  online a month before the event by clicking here.
URL:https://www.train-museum.org/event/second-thursday-tractors/
LOCATION:Southeastern Railway Museum\, 3595 Buford Hwy\, Duluth\, GA\, 30096\, United States
CATEGORIES:2nd Thursday
ATTACH;FMTTYPE=image/jpeg:https://www.train-museum.org/wp-content/uploads/2022/12/8-August-Tractors.jpg
END:VEVENT
END:VCALENDAR