BEGIN:VCALENDAR
VERSION:2.0
PRODID:-//Southeastern Railway Museum - ECPv6.15.17.1//NONSGML v1.0//EN
CALSCALE:GREGORIAN
METHOD:PUBLISH
X-WR-CALNAME:Southeastern Railway Museum
X-ORIGINAL-URL:https://www.train-museum.org
X-WR-CALDESC:Events for Southeastern Railway Museum
REFRESH-INTERVAL;VALUE=DURATION:PT1H
X-Robots-Tag:noindex
X-PUBLISHED-TTL:PT1H
BEGIN:VTIMEZONE
TZID:America/New_York
BEGIN:DAYLIGHT
TZOFFSETFROM:-0500
TZOFFSETTO:-0400
TZNAME:EDT
DTSTART:20250309T070000
END:DAYLIGHT
BEGIN:STANDARD
TZOFFSETFROM:-0400
TZOFFSETTO:-0500
TZNAME:EST
DTSTART:20251102T060000
END:STANDARD
BEGIN:DAYLIGHT
TZOFFSETFROM:-0500
TZOFFSETTO:-0400
TZNAME:EDT
DTSTART:20260308T070000
END:DAYLIGHT
BEGIN:STANDARD
TZOFFSETFROM:-0400
TZOFFSETTO:-0500
TZNAME:EST
DTSTART:20261101T060000
END:STANDARD
BEGIN:DAYLIGHT
TZOFFSETFROM:-0500
TZOFFSETTO:-0400
TZNAME:EDT
DTSTART:20270314T070000
END:DAYLIGHT
BEGIN:STANDARD
TZOFFSETFROM:-0400
TZOFFSETTO:-0500
TZNAME:EST
DTSTART:20271107T060000
END:STANDARD
END:VTIMEZONE
BEGIN:VEVENT
DTSTART;TZID=America/New_York:20260514T103000
DTEND;TZID=America/New_York:20260514T120000
DTSTAMP:20260419T184251
CREATED:20251222T132222Z
LAST-MODIFIED:20260112T222702Z
UID:11859-1778754600-1778760000@www.train-museum.org
SUMMARY:Second Thursday - Rockets!
DESCRIPTION:Blast off for Rockets & Drones during our 2nd Thursday toddler sessions (10:30-Noon). An introduction to rockets\, a story\, a craft\, and a train ride make up the morning. Plus you can stay all day so bring a picnic.
URL:https://www.train-museum.org/event/second-thursday-4/
LOCATION:Southeastern Railway Museum\, 3595 Buford Hwy\, Duluth\, GA\, 30096\, United States
CATEGORIES:2nd Thursday
ATTACH;FMTTYPE=image/jpeg:https://www.train-museum.org/wp-content/uploads/2025/12/5-May-Rockets.jpg
END:VEVENT
BEGIN:VEVENT
DTSTART;TZID=America/New_York:20260516T100000
DTEND;TZID=America/New_York:20260516T170000
DTSTAMP:20260419T184251
CREATED:20251226T210548Z
LAST-MODIFIED:20260112T223906Z
UID:11894-1778925600-1778950800@www.train-museum.org
SUMMARY:Rotary Day
DESCRIPTION:This is our way of saying thanks to Rotarians who\, for more than 110 years\, have used their passion\, energy\, and intelligence to take action on sustainable projects. Rotarians of any club or district\, with spouse\, significant other and/or family get in free for the day. We’ll ask you wear your lapel pin\, club badge or show your Rotary member ID at the ticket booth. Thank you for your service to our communities.
URL:https://www.train-museum.org/event/rotary-day/
LOCATION:Southeastern Railway Museum\, 3595 Buford Hwy\, Duluth\, GA\, 30096\, United States
CATEGORIES:Event
END:VEVENT
BEGIN:VEVENT
DTSTART;TZID=America/New_York:20260530T100000
DTEND;TZID=America/New_York:20260530T150000
DTSTAMP:20260419T184251
CREATED:20251216T134544Z
LAST-MODIFIED:20251222T135555Z
UID:11797-1780135200-1780153200@www.train-museum.org
SUMMARY:Wheels & Rails Invitational Car Show
DESCRIPTION:Our annual open class car show is back. We’ll have food\, music\, great cars\, train rides\, museum exhibits\, antique buses\, and more. Details coming\, so please save the date. \n 
URL:https://www.train-museum.org/event/wheels-rails-invitational-car-show/
LOCATION:Southeastern Railway Museum\, 3595 Buford Hwy\, Duluth\, GA\, 30096\, United States
CATEGORIES:Event
ATTACH;FMTTYPE=image/jpeg:https://www.train-museum.org/wp-content/uploads/2025/12/DSC_0281-Copy-scaled.jpg
END:VEVENT
BEGIN:VEVENT
DTSTART;TZID=America/New_York:20260611T103000
DTEND;TZID=America/New_York:20260611T120000
DTSTAMP:20260419T184251
CREATED:20251222T132512Z
LAST-MODIFIED:20260112T222603Z
UID:11861-1781173800-1781179200@www.train-museum.org
SUMMARY:Second Thursday - Ice Cream Trucks!
DESCRIPTION:Fan favorite time during our 2nd Thursday toddler sessions (10:30-Noon) is coming soon and that’s Ice Cream Trucks. I suspect there’s a treat\, a story\, a craft\, and a train ride. Also\, you’ve access to the entire museum so bring a picnic. Thanks.
URL:https://www.train-museum.org/event/second-thursday-5/
LOCATION:Southeastern Railway Museum\, 3595 Buford Hwy\, Duluth\, GA\, 30096\, United States
CATEGORIES:2nd Thursday
END:VEVENT
BEGIN:VEVENT
DTSTART;TZID=America/New_York:20260615T090000
DTEND;TZID=America/New_York:20260619T130000
DTSTAMP:20260419T184251
CREATED:20251220T210205Z
LAST-MODIFIED:20251220T211132Z
UID:11842-1781514000-1781874000@www.train-museum.org
SUMMARY:Southeastern Summer Session 1
DESCRIPTION:A save the date note for our young summer campers.  Mon – Fri June 15-19.
URL:https://www.train-museum.org/event/southeastern-summer-session-1/
LOCATION:Southeastern Railway Museum\, 3595 Buford Hwy\, Duluth\, GA\, 30096\, United States
CATEGORIES:Event
ATTACH;FMTTYPE=image/jpeg:https://www.train-museum.org/wp-content/uploads/2025/07/SRM-3-with-Tour-group.jpg
END:VEVENT
BEGIN:VEVENT
DTSTART;TZID=America/New_York:20260620T100000
DTEND;TZID=America/New_York:20260621T170000
DTSTAMP:20260419T184251
CREATED:20251220T205554Z
LAST-MODIFIED:20260112T223701Z
UID:11838-1781949600-1782061200@www.train-museum.org
SUMMARY:Father's Day
DESCRIPTION:This weekend\, dad’s get in free with family. Put a smile on good old pop by putting him on a train. Rides\, trains\, exhibits\, picnic tables\, nice weather\, and pop – at the Museum! More details soon. \n 
URL:https://www.train-museum.org/event/fathers-day/
LOCATION:Southeastern Railway Museum\, 3595 Buford Hwy\, Duluth\, GA\, 30096\, United States
CATEGORIES:Event
ATTACH;FMTTYPE=image/jpeg:https://www.train-museum.org/wp-content/uploads/2025/12/Fathers-Day.jpg
END:VEVENT
BEGIN:VEVENT
DTSTART;TZID=America/New_York:20260709T103000
DTEND;TZID=America/New_York:20260709T120000
DTSTAMP:20260419T184251
CREATED:20251222T132727Z
LAST-MODIFIED:20260112T222508Z
UID:11863-1783593000-1783598400@www.train-museum.org
SUMMARY:Second Thursday - Watercraft
DESCRIPTION:Save the date for a pretend day at the lake. Watercraft will be part of our 2nd Thursday toddler sessions (10:30-Noon) that include a story\, a few boats\, a craft\, and a train ride. Plus\, you can stay all day\, so bring a picnic.
URL:https://www.train-museum.org/event/second-thursday-6/
LOCATION:Southeastern Railway Museum\, 3595 Buford Hwy\, Duluth\, GA\, 30096\, United States
CATEGORIES:2nd Thursday
END:VEVENT
BEGIN:VEVENT
DTSTART;TZID=America/New_York:20260713T090000
DTEND;TZID=America/New_York:20260717T130000
DTSTAMP:20260419T184251
CREATED:20251220T210616Z
LAST-MODIFIED:20251220T211046Z
UID:11844-1783933200-1784293200@www.train-museum.org
SUMMARY:Southeastern Summer Session 2
DESCRIPTION:A save the date note for our young campers July 13-17\, 9a-1p. More soon.
URL:https://www.train-museum.org/event/a-save-the-date-note-for-our-young-campers-july-13-17-9a-1p-more-soon/
LOCATION:Southeastern Railway Museum\, 3595 Buford Hwy\, Duluth\, GA\, 30096\, United States
CATEGORIES:Event
ATTACH;FMTTYPE=image/jpeg:https://www.train-museum.org/wp-content/uploads/2025/12/Park-Train-7.12.24-scaled.jpg
END:VEVENT
BEGIN:VEVENT
DTSTART;TZID=America/New_York:20260725T100000
DTEND;TZID=America/New_York:20260726T170000
DTSTAMP:20260419T184251
CREATED:20251216T140057Z
LAST-MODIFIED:20260112T223550Z
UID:11804-1784973600-1785085200@www.train-museum.org
SUMMARY:Double Rides Weekend
DESCRIPTION:Have twice as much fun on Double Rides Weekend. A BOGO event. Buy one ride\, the second is our treat.  More soon.
URL:https://www.train-museum.org/event/double-rides-weekend/
LOCATION:Southeastern Railway Museum\, 3595 Buford Hwy\, Duluth\, GA\, 30096\, United States
CATEGORIES:Event
ATTACH;FMTTYPE=image/jpeg:https://www.train-museum.org/wp-content/uploads/2025/08/522624584_1307893304678172_7039921133642986697_n.jpg
END:VEVENT
BEGIN:VEVENT
DTSTART;TZID=America/New_York:20260813T103000
DTEND;TZID=America/New_York:20260813T120000
DTSTAMP:20260419T184251
CREATED:20251222T132937Z
LAST-MODIFIED:20260112T222405Z
UID:11865-1786617000-1786622400@www.train-museum.org
SUMMARY:Second Thursday - Buses!
DESCRIPTION:Save the date. Buses\, big buses\, are in our next 2nd Thursday toddler introduction session (10:30-Noon). We’ll visit them\, have a story\, a craft\, and take a train ride. Plus you can stay here all day long so bring a picnic. Thanks.
URL:https://www.train-museum.org/event/second-thursday-7/
LOCATION:Southeastern Railway Museum\, 3595 Buford Hwy\, Duluth\, GA\, 30096\, United States
CATEGORIES:2nd Thursday
ATTACH;FMTTYPE=image/jpeg:https://www.train-museum.org/wp-content/uploads/2025/12/Ted-Fred-in-a-bus-scaled.jpg
END:VEVENT
BEGIN:VEVENT
DTSTART;TZID=America/New_York:20260815T100000
DTEND;TZID=America/New_York:20260815T150000
DTSTAMP:20260419T184251
CREATED:20251216T140615Z
LAST-MODIFIED:20260112T223446Z
UID:11808-1786788000-1786806000@www.train-museum.org
SUMMARY:Trains\, Trucks and Tractors Invitational Show
DESCRIPTION:Open class show for antique tractors\, pickup\, semi and box trucks\, buses\, vans and our trains. Rides\, food\, exhibits and more details soon. Save the date.
URL:https://www.train-museum.org/event/trains-trucks-and-tractors-invitational-show/
LOCATION:Southeastern Railway Museum\, 3595 Buford Hwy\, Duluth\, GA\, 30096\, United States
CATEGORIES:Event
ATTACH;FMTTYPE=image/jpeg:https://www.train-museum.org/wp-content/uploads/2025/12/253-and-semi.jpg
END:VEVENT
BEGIN:VEVENT
DTSTART;TZID=America/New_York:20260910T103000
DTEND;TZID=America/New_York:20260910T120000
DTSTAMP:20260419T184251
CREATED:20251222T133147Z
LAST-MODIFIED:20260112T222313Z
UID:11867-1789036200-1789041600@www.train-museum.org
SUMMARY:Second Thursday - Safety Vehicles!
DESCRIPTION:Save the date. This session for the 2-4 year old toddler includes a look at safety vehicles\, a story\, a craft\, a train ride and you’ll have access to the entire museum. Bring a picnic. Thanks.
URL:https://www.train-museum.org/event/second-thursday-8/
LOCATION:Southeastern Railway Museum\, 3595 Buford Hwy\, Duluth\, GA\, 30096\, United States
CATEGORIES:2nd Thursday
ATTACH;FMTTYPE=image/jpeg:https://www.train-museum.org/wp-content/uploads/2025/12/9-October-Safety-Vehicles.jpg
END:VEVENT
BEGIN:VEVENT
DTSTART;TZID=America/New_York:20260913T120000
DTEND;TZID=America/New_York:20260913T170000
DTSTAMP:20260419T184251
CREATED:20260112T223226Z
LAST-MODIFIED:20260112T223226Z
UID:11902-1789300800-1789318800@www.train-museum.org
SUMMARY:Southeastern Scouting Sunday
DESCRIPTION:We celebrate scouting by inviting \nBrownies\, \n \nCub Scouts\, \n \nGirl Scouts\, \n  \n \nand Boy Scouts \n \nto the Museum by offering free admission for all scouts in uniform accompanied by family admissions.
URL:https://www.train-museum.org/event/southeastern-scouting-sunday/
LOCATION:Southeastern Railway Museum\, 3595 Buford Hwy\, Duluth\, GA\, 30096\, United States
END:VEVENT
BEGIN:VEVENT
DTSTART;TZID=America/New_York:20261008T103000
DTEND;TZID=America/New_York:20261008T120000
DTSTAMP:20260419T184251
CREATED:20251222T133323Z
LAST-MODIFIED:20260112T222111Z
UID:11869-1791455400-1791460800@www.train-museum.org
SUMMARY:Second Thursday - Tractors!
DESCRIPTION:Save the date.  Our 2nd Thursday toddler sessions (10:30-Noon) feature the fan favorite – tractors! Besides the introduction to these big tools\, there’s a story\, a craft\, a train ride\, and you’ll have access to the entire museum. Bring a picnic\, spend the day with us. Thanks.
URL:https://www.train-museum.org/event/second-thursday-9/
LOCATION:Southeastern Railway Museum\, 3595 Buford Hwy\, Duluth\, GA\, 30096\, United States
CATEGORIES:2nd Thursday
ATTACH;FMTTYPE=image/jpeg:https://www.train-museum.org/wp-content/uploads/2025/12/10-August-Tractors.jpg
END:VEVENT
BEGIN:VEVENT
DTSTART;TZID=America/New_York:20261112T103000
DTEND;TZID=America/New_York:20261112T120000
DTSTAMP:20260419T184251
CREATED:20251222T133604Z
LAST-MODIFIED:20260112T221955Z
UID:11871-1794479400-1794484800@www.train-museum.org
SUMMARY:Second Thursday - Taxis!
DESCRIPTION:Save the date. This time our 2nd Thursday toddler sessions (10:30-Noon) will offer an introduction to taxis\, a story\, a craft project\, even a ride on the train. Plus you’ve access to the entire museum. Thanks.
URL:https://www.train-museum.org/event/second-thursday-10/
LOCATION:Southeastern Railway Museum\, 3595 Buford Hwy\, Duluth\, GA\, 30096\, United States
CATEGORIES:2nd Thursday
ATTACH;FMTTYPE=image/jpeg:https://www.train-museum.org/wp-content/uploads/2025/12/11-November-Taxi-scaled.jpg
END:VEVENT
BEGIN:VEVENT
DTSTART;TZID=America/New_York:20261210T103000
DTEND;TZID=America/New_York:20261210T120000
DTSTAMP:20260419T184251
CREATED:20251222T133712Z
LAST-MODIFIED:20260112T212632Z
UID:11873-1796898600-1796904000@www.train-museum.org
SUMMARY:Second Thursday
DESCRIPTION:Save the date. More information on our 2nd Thursday toddler sessions (10:30-Noon) is coming soon. Thanks.
URL:https://www.train-museum.org/event/second-thursday-11/
LOCATION:Southeastern Railway Museum\, 3595 Buford Hwy\, Duluth\, GA\, 30096\, United States
CATEGORIES:2nd Thursday
ATTACH;FMTTYPE=image/jpeg:https://www.train-museum.org/wp-content/uploads/2025/11/DSC_0612-scaled.jpg
END:VEVENT
END:VCALENDAR